BEGIN:VCALENDAR
VERSION:2.0
PRODID:-//Mount Diablo Bird Alliance - ECPv6.15.20//NONSGML v1.0//EN
CALSCALE:GREGORIAN
METHOD:PUBLISH
X-WR-CALNAME:Mount Diablo Bird Alliance
X-ORIGINAL-URL:https://mtdiablobirds.org
X-WR-CALDESC:Events for Mount Diablo Bird Alliance
REFRESH-INTERVAL;VALUE=DURATION:PT1H
X-Robots-Tag:noindex
X-PUBLISHED-TTL:PT1H
BEGIN:VTIMEZONE
TZID:America/Los_Angeles
BEGIN:DAYLIGHT
TZOFFSETFROM:-0800
TZOFFSETTO:-0700
TZNAME:PDT
DTSTART:20250309T100000
END:DAYLIGHT
BEGIN:STANDARD
TZOFFSETFROM:-0700
TZOFFSETTO:-0800
TZNAME:PST
DTSTART:20251102T090000
END:STANDARD
BEGIN:DAYLIGHT
TZOFFSETFROM:-0800
TZOFFSETTO:-0700
TZNAME:PDT
DTSTART:20260308T100000
END:DAYLIGHT
BEGIN:STANDARD
TZOFFSETFROM:-0700
TZOFFSETTO:-0800
TZNAME:PST
DTSTART:20261101T090000
END:STANDARD
BEGIN:DAYLIGHT
TZOFFSETFROM:-0800
TZOFFSETTO:-0700
TZNAME:PDT
DTSTART:20270314T100000
END:DAYLIGHT
BEGIN:STANDARD
TZOFFSETFROM:-0700
TZOFFSETTO:-0800
TZNAME:PST
DTSTART:20271107T090000
END:STANDARD
END:VTIMEZONE
BEGIN:VEVENT
DTSTART;TZID=America/Los_Angeles:20260421T090000
DTEND;TZID=America/Los_Angeles:20260421T150000
DTSTAMP:20260421T015738
CREATED:20260216T032938Z
LAST-MODIFIED:20260216T033135Z
UID:9364-1776762000-1776783600@mtdiablobirds.org
SUMMARY:MDBA Field Trip -- Del Puerto Canyon
DESCRIPTION:We’ll drive along Del Puerto Canyon\, on the east side of the Diablo Range\, looking for Canyon Wren\, Costa’ s Hummingbird\, Greater Roadrunner\, and other special birds. It can get very warm! Bring lunch and plenty of liquids\, as this trip takes us further from conveniences that most of our outings. \nTrail Rating: 1 – This is mostly a car trip\, with several easy walks.\nLeader: Steve Buffi (925) 200-4555 \nCarpools should plan to leave at 7:30 AM from Sycamore Valley Road Park and Ride. OR\, meet on Del Puerto Canyon Road west of I-5 at 9 AM at the Patterson Exit (Diablo Grande Parkway and Sperry Road) off I-5 (56 miles from Sycamore Valley Road). Take I-580 east to I-5 south.\nWe’re usually home for dinner. \nThere is no capacity limit on this trip. Carpooling is strongly recommended. We usually meet at Sycamore Valley Road. \nRegister HERE:\nhttps://www.eventbrite.com/e/birding-del-puerto-canyon-tickets-1983169624733 \n(Western Kingbird photo by Isaac Aronow)
URL:https://mtdiablobirds.org/event/mdba-field-trip-del-puerto-canyon-apr-2026/
LOCATION:Del Puerto Canyon Rd & Diablo Grande Pkwy\, Del Puerto Canyon Rd\, Patterson\, CA\, 95363\, United States
CATEGORIES:Field Trips
ATTACH;FMTTYPE=image/jpeg:https://mtdiablobirds.org/wp-content/uploads/2024/03/WEKI_DelPuerto_Aronow.jpg
GEO:37.4626529;-121.1857453
X-APPLE-STRUCTURED-LOCATION;VALUE=URI;X-ADDRESS=Del Puerto Canyon Rd & Diablo Grande Pkwy Del Puerto Canyon Rd Patterson CA 95363 United States;X-APPLE-RADIUS=500;X-TITLE=Del Puerto Canyon Rd:geo:-121.1857453,37.4626529
END:VEVENT
END:VCALENDAR