BEGIN:VCALENDAR
VERSION:2.0
PRODID:-//Mount Diablo Bird Alliance - ECPv6.15.20//NONSGML v1.0//EN
CALSCALE:GREGORIAN
METHOD:PUBLISH
X-WR-CALNAME:Mount Diablo Bird Alliance
X-ORIGINAL-URL:https://mtdiablobirds.org
X-WR-CALDESC:Events for Mount Diablo Bird Alliance
REFRESH-INTERVAL;VALUE=DURATION:PT1H
X-Robots-Tag:noindex
X-PUBLISHED-TTL:PT1H
BEGIN:VTIMEZONE
TZID:America/Los_Angeles
BEGIN:DAYLIGHT
TZOFFSETFROM:-0800
TZOFFSETTO:-0700
TZNAME:PDT
DTSTART:20250309T100000
END:DAYLIGHT
BEGIN:STANDARD
TZOFFSETFROM:-0700
TZOFFSETTO:-0800
TZNAME:PST
DTSTART:20251102T090000
END:STANDARD
BEGIN:DAYLIGHT
TZOFFSETFROM:-0800
TZOFFSETTO:-0700
TZNAME:PDT
DTSTART:20260308T100000
END:DAYLIGHT
BEGIN:STANDARD
TZOFFSETFROM:-0700
TZOFFSETTO:-0800
TZNAME:PST
DTSTART:20261101T090000
END:STANDARD
BEGIN:DAYLIGHT
TZOFFSETFROM:-0800
TZOFFSETTO:-0700
TZNAME:PDT
DTSTART:20270314T100000
END:DAYLIGHT
BEGIN:STANDARD
TZOFFSETFROM:-0700
TZOFFSETTO:-0800
TZNAME:PST
DTSTART:20271107T090000
END:STANDARD
END:VTIMEZONE
BEGIN:VEVENT
DTSTART;TZID=America/Los_Angeles:20260423T090000
DTEND;TZID=America/Los_Angeles:20260423T133000
DTSTAMP:20260421T085741
CREATED:20260318T231455Z
LAST-MODIFIED:20260318T233104Z
UID:9371-1776934800-1776951000@mtdiablobirds.org
SUMMARY:MDBA Field Trip -- Lagoon Valley & Pena Adobe
DESCRIPTION:We will first bird at Pena Adobe Park\, located off I-80 just west of Vacaville. Pena Adobe is a historic park with well established trees\, including an orange tree planted as early as the1860s. Birds we’ve seen here include Brown Creeper\, Hermit Thrush and Black-headed Grosbeak. \nAfter exploring Pena Adobe we will drive to Lagoon Valley Park. There is a $5 parking fee here\, and note the kiosk only takes either exact cash—no change given!—or debit/credit card. Birds seen at Lagoon Valley have included Western Bluebird\, Cliff Swallow\, Bullock’s Oriole and Western Kingbird. If the lake level is low\, there is a good chance for Wilson’s Snipe and Greater Yellow-legs. Bufflehead and American Wigeon are often among the waterbirds on the lake. \nTrail Rating: 1 – Easy. Mostly level paths.\nLeader: Mona Lange\, 510-414-2959\nMeet: Pena Adobe Park\, off I-80 between Fairfeld and Vacaville.\nDirections: Take 680 to 80 East towards Sacramento. Take Exit 51B\, Pena Adobe Road.\nDO NOT take the Lagoon Valley Road exit. After the stop sign\, proceed straight veering to the LEFT onto Pena Adobe Road. Meet at the restroom building. Address is 4699 Pena Adobe Road\, Vacaville\, CA. \nThis field trip is limited to 12 participants. Participants must acknowledge the MDBA Liability Waiver (available during registration). Register HERE:\nhttps://www.eventbrite.com/e/birding-lagoon-valley-tickets-1985234526911 \n(Photo of Brown Creeper by Mona Lange)
URL:https://mtdiablobirds.org/event/mdba-field-trip-lagoon-valley-pena-adobe-apr-2026/
LOCATION:Peña Adobe Regional Park\, 4699 Peña Adobe Rd.\, Vacaville\, CA\, 95687
CATEGORIES:Birding,Field Trips
ATTACH;FMTTYPE=image/jpeg:https://mtdiablobirds.org/wp-content/uploads/2024/03/BRCR_PenaAdobe_Lange-TPAI-scaled.jpeg
END:VEVENT
END:VCALENDAR