BEGIN:VCALENDAR
VERSION:2.0
PRODID:-//Mount Diablo Bird Alliance - ECPv6.15.20//NONSGML v1.0//EN
CALSCALE:GREGORIAN
METHOD:PUBLISH
X-ORIGINAL-URL:https://mtdiablobirds.org
X-WR-CALDESC:Events for Mount Diablo Bird Alliance
REFRESH-INTERVAL;VALUE=DURATION:PT1H
X-Robots-Tag:noindex
X-PUBLISHED-TTL:PT1H
BEGIN:VTIMEZONE
TZID:America/Los_Angeles
BEGIN:DAYLIGHT
TZOFFSETFROM:-0800
TZOFFSETTO:-0700
TZNAME:PDT
DTSTART:20250309T100000
END:DAYLIGHT
BEGIN:STANDARD
TZOFFSETFROM:-0700
TZOFFSETTO:-0800
TZNAME:PST
DTSTART:20251102T090000
END:STANDARD
BEGIN:DAYLIGHT
TZOFFSETFROM:-0800
TZOFFSETTO:-0700
TZNAME:PDT
DTSTART:20260308T100000
END:DAYLIGHT
BEGIN:STANDARD
TZOFFSETFROM:-0700
TZOFFSETTO:-0800
TZNAME:PST
DTSTART:20261101T090000
END:STANDARD
BEGIN:DAYLIGHT
TZOFFSETFROM:-0800
TZOFFSETTO:-0700
TZNAME:PDT
DTSTART:20270314T100000
END:DAYLIGHT
BEGIN:STANDARD
TZOFFSETFROM:-0700
TZOFFSETTO:-0800
TZNAME:PST
DTSTART:20271107T090000
END:STANDARD
END:VTIMEZONE
BEGIN:VEVENT
DTSTART;TZID=America/Los_Angeles:20260501T083000
DTEND;TZID=America/Los_Angeles:20260501T123000
DTSTAMP:20260421T085741
CREATED:20260318T232621Z
LAST-MODIFIED:20260318T235330Z
UID:9375-1777624200-1777638600@mtdiablobirds.org
SUMMARY:MDBA Field Trip -- Brannan Island & Delta Rookery
DESCRIPTION:We’ll start at the entrance to Brannan Island SRA\, in the parking lot east side of Hwy 160. Pay the entrance fee at the station or by envelope if no one’s there\, $10 or $9 for seniors. Note that most public libraries have a pass you can check out that allows free day use parking. Western Kingbird\, Western Bluebird and Bullock’s Oriole have been seen there\, plus raptors. Then we’ll drive to the site of a rookery where\, in past years\, several species of heron and egret have nested\, along with cormorants. There are picnic tables from which you can enjoy the rookery while having a snack. This trip is good for beginners. \nHike Rating: 1\, Easy. A few walks on level trails adding up to probably less than a mile.\nElevation change: N/A\nLeader: Mona Lange\, 510-414-2959\nMeet: Brannan Island State Recreation Area. GPS: 38.11017164265391\, -121.6966400433512\nDirections: Central Contra Cost take Hwy 4 towards Antioch. Where the highway forks take Hwy 160 north over the Antioch Bridge (toll). After crossing the bridge\, continue about 7 miles to Brannan Island. The park entrance is on your right\, 1/4 mile after crossing 3-Mile Slough. Meet at the parking lot\, 200 yards east of Hwy 160. \nThis field trip is limited to 12 participants. Register HERE:\nhttps://www.eventbrite.com/e/birding-brannan-island-delta-rookery-tickets-1985233802745 \n(Image of Great Blue Heron by Warren Regelmann)
URL:https://mtdiablobirds.org/event/mdba-field-trip-brannan-island-delta-rookery-may-2026/
LOCATION:Brannan Island State Recreation Area\, 17645 CA-160\, Rio Vista\, CA\, 94571
CATEGORIES:Birding,Field Trips
ATTACH;FMTTYPE=image/jpeg:https://mtdiablobirds.org/wp-content/uploads/2025/05/GBHE_MVSD_Regelmann-scaled.jpg
END:VEVENT
END:VCALENDAR