BEGIN:VCALENDAR
VERSION:2.0
PRODID:-//Mount Diablo Bird Alliance - ECPv6.15.20//NONSGML v1.0//EN
CALSCALE:GREGORIAN
METHOD:PUBLISH
X-ORIGINAL-URL:https://mtdiablobirds.org
X-WR-CALDESC:Events for Mount Diablo Bird Alliance
REFRESH-INTERVAL;VALUE=DURATION:PT1H
X-Robots-Tag:noindex
X-PUBLISHED-TTL:PT1H
BEGIN:VTIMEZONE
TZID:America/Los_Angeles
BEGIN:DAYLIGHT
TZOFFSETFROM:-0800
TZOFFSETTO:-0700
TZNAME:PDT
DTSTART:20250309T100000
END:DAYLIGHT
BEGIN:STANDARD
TZOFFSETFROM:-0700
TZOFFSETTO:-0800
TZNAME:PST
DTSTART:20251102T090000
END:STANDARD
BEGIN:DAYLIGHT
TZOFFSETFROM:-0800
TZOFFSETTO:-0700
TZNAME:PDT
DTSTART:20260308T100000
END:DAYLIGHT
BEGIN:STANDARD
TZOFFSETFROM:-0700
TZOFFSETTO:-0800
TZNAME:PST
DTSTART:20261101T090000
END:STANDARD
BEGIN:DAYLIGHT
TZOFFSETFROM:-0800
TZOFFSETTO:-0700
TZNAME:PDT
DTSTART:20270314T100000
END:DAYLIGHT
BEGIN:STANDARD
TZOFFSETFROM:-0700
TZOFFSETTO:-0800
TZNAME:PST
DTSTART:20271107T090000
END:STANDARD
END:VTIMEZONE
BEGIN:VEVENT
DTSTART;TZID=America/Los_Angeles:20260521T150000
DTEND;TZID=America/Los_Angeles:20260521T170000
DTSTAMP:20260423T024959
CREATED:20260423T001051Z
LAST-MODIFIED:20260423T011046Z
UID:9404-1779375600-1779382800@mtdiablobirds.org
SUMMARY:Student Cello Recital Fundraiser for MDBA
DESCRIPTION:Olivia Qian\, a junior at San Ramon Valley High School (SRVHS) and founder of the school’s bird-watching club\, is hosting a solo cello recital fundraiser on Thursday\, May 21\, 2026\, at 3:00 PM. The performance will take place at the San Ramon Valley High School Performing Arts Center and will feature masterworks by Bach\, Saint-Saëns\, Elgar\, and Lalo. \nAll proceeds from the event will be donated to support the conservation programs of the Mount Diablo Bird Alliance. In addition to the performance\, MDBA members will be on-site to share information about local bird conservation efforts and how you can get involved. \nJoin us for an afternoon of beautiful music and community spirit in support of birds and their habitats. \nSuggested donation: $7 online or bring cash in exact change. \nView the fundraiser flyer for additional details.
URL:https://mtdiablobirds.org/event/student-cello-recital-fundraiser-for-mdba/
LOCATION:San Ramon Valley High School Performing Arts Center\, 501 Danville Blvd\, Danville\, CA\, 94526
CATEGORIES:Outreach
ATTACH;FMTTYPE=image/png:https://mtdiablobirds.org/wp-content/uploads/2026/04/olivia_qian2.png
END:VEVENT
BEGIN:VEVENT
DTSTART;TZID=America/Los_Angeles:20260530T083000
DTEND;TZID=America/Los_Angeles:20260530T150000
DTSTAMP:20260423T024959
CREATED:20260422T233100Z
LAST-MODIFIED:20260422T233534Z
UID:9402-1780129800-1780153200@mtdiablobirds.org
SUMMARY:MDBA Field Trip -- Point Reyes
DESCRIPTION:Point Reyes is one of the premier birding locations in Northern California and a renowned spot for finding rarities during migration—such as the Prairie Warbler pictured above (image by Beth Branthaver). MDBA visits at least twice a year; on our spring trip\, we hope to observe northbound migrants as well as resident birds in their finest breeding plumage. \nThe exact itinerary will depend on the weather\, but after checking Drakes Beach and the lagoon behind it\, we will likely visit the Lighthouse area and the “fish docks.” After lunch\, we may walk down the Avenue of Cypresses to the historic RCA building. \nPlease bring water and lunch\, as this area is remote. The weather at the Point is highly changeable; bring warmer clothing than you think you’ll need—ensuring you include a windproof layer—as well as sun protection. \nTrail Rating: 2 — up to a mile total walk\, almost entirely on paved roads but with some moderate grade.\nElevation Change: 100 ft\nLeader: Matt Tarlach\, mdbafieldtrips@gmail.com\nMeet: Kenneth C. Patrick Visitor Center\, Drake’s Beach\nGPS: 38.027828257127936\, -122.96201741318059\nDirections: Depending on your starting point\, take the best route to San Rafael and go North on US 101. From 101\, take Lucas Valley Road to Nicasio. At the reservoir\, turn left. Follow signs to Point Reyes Station\, and when you get to town turn left onto US-1. After passing through town (the Bovine Bakery is a tasty stop for breakfast pastries)\, turn right from US-1 onto Sir Francis Drake Blvd and follow it for 15 miles to Drakes Beach Road. \nDue to limited parking\, this trip is limited to 12 participants. Carpooling is encouraged! \nRegister here: https://www.eventbrite.com/e/point-reyes-registration-1987575551980 \n(Prairie Warbler photo by Beth Branthaver)
URL:https://mtdiablobirds.org/event/mdba-field-trip-point-reyes-may-2026/
LOCATION:Kenneth C. Patrick Visitor Center\, 1 Drake Beach Rd\, Inverness\, CA\, 94937\, United States
CATEGORIES:Birding,Field Trips
ATTACH;FMTTYPE=image/png:https://mtdiablobirds.org/wp-content/uploads/2023/08/prairie-warbler-beth-branthaver.png
END:VEVENT
END:VCALENDAR